BEGIN:VCALENDAR
VERSION:2.0
PRODID:-//Club Douala Ravensburg - ECPv6.15.18//NONSGML v1.0//EN
CALSCALE:GREGORIAN
METHOD:PUBLISH
X-WR-CALNAME:Club Douala Ravensburg
X-ORIGINAL-URL:https://clubdouala.de
X-WR-CALDESC:Veranstaltungen für Club Douala Ravensburg
REFRESH-INTERVAL;VALUE=DURATION:PT1H
X-Robots-Tag:noindex
X-PUBLISHED-TTL:PT1H
BEGIN:VTIMEZONE
TZID:Europe/Berlin
BEGIN:DAYLIGHT
TZOFFSETFROM:+0100
TZOFFSETTO:+0200
TZNAME:CEST
DTSTART:20250330T010000
END:DAYLIGHT
BEGIN:STANDARD
TZOFFSETFROM:+0200
TZOFFSETTO:+0100
TZNAME:CET
DTSTART:20251026T010000
END:STANDARD
BEGIN:DAYLIGHT
TZOFFSETFROM:+0100
TZOFFSETTO:+0200
TZNAME:CEST
DTSTART:20260329T010000
END:DAYLIGHT
BEGIN:STANDARD
TZOFFSETFROM:+0200
TZOFFSETTO:+0100
TZNAME:CET
DTSTART:20261025T010000
END:STANDARD
BEGIN:DAYLIGHT
TZOFFSETFROM:+0100
TZOFFSETTO:+0200
TZNAME:CEST
DTSTART:20270328T010000
END:DAYLIGHT
BEGIN:STANDARD
TZOFFSETFROM:+0200
TZOFFSETTO:+0100
TZNAME:CET
DTSTART:20271031T010000
END:STANDARD
END:VTIMEZONE
BEGIN:VEVENT
DTSTART;TZID=Europe/Berlin:20260423T170000
DTEND;TZID=Europe/Berlin:20260424T000000
DTSTAMP:20260420T031505
CREATED:20260325T160000Z
LAST-MODIFIED:20260303T103912Z
UID:1726-1776963600-1776988800@clubdouala.de
SUMMARY:Soundsynthesis
DESCRIPTION:Hey! Wir sind Sound Synthesis Community 🎛️\nEin Zusammenschluss von DJs\, Produzentinnen und Veranstalterinnen mit einem gemeinsamen Ziel – die lokale Szene zu stärken\, zu verbinden und gemeinsam weiterzuentwickeln. \nJeden Donnerstag treffen wir uns\, um Musik zu spielen\, zu produzieren\, Erfahrungen auszutauschen\, neue Leute kennenzulernen und einfach eine gute Zeit mit Freunden zu haben. \nUnsere Mission ist es\, lokale Artists zu unterstützen und jungen Talenten eine Bühne zu geben\, auf der sie gesehen und gehört werden. \nWir glauben\, dass Live-Sets die Zukunft der elektronischen Szene sind – deshalb zeigen wir unseren Mitgliedern\, wie man diesen Weg geht\, veranstalten Workshops\, Sessions und Kooperationen mit unseren Partnern. \nSound Synthesis ist ein Ort\, an dem du einfach du selbst sein kannst – wo Ideen zu Tracks werden und Kontakte zu echten Projekten wachsen. \n🎶 Eintritt? Deine Wertschätzung.\nKomm vorbei\, wenn du den Teil von etwas Echtem sein willst.
URL:https://clubdouala.de/programm/2026/04/soundsynthesis-16/
LOCATION:Club Douala\, Schubertstraße 2\, Ravensburg\, Baden-Württemberg\, 88214\, Germany
ATTACH;FMTTYPE=image/jpeg:https://clubdouala.de/wp-content/uploads/2025/10/soundsynthesis-platzhalter.jpeg
END:VEVENT
BEGIN:VEVENT
DTSTART;TZID=Europe/Berlin:20260424T220000
DTEND;TZID=Europe/Berlin:20260425T060000
DTSTAMP:20260420T031505
CREATED:20260326T210000Z
LAST-MODIFIED:20260331T160022Z
UID:1630-1777068000-1777096800@clubdouala.de
SUMMARY:RESURRECTION x TCS
DESCRIPTION:The Hydra rises. \nResurrection travels from Malta to RAVENSBURG (GER)\, bringing uncompromising sound\, raw energy and pure intensity to the dancefloor. \n 
URL:https://clubdouala.de/programm/2026/04/resurrection-x-tcs/
LOCATION:Club Douala\, Schubertstraße 2\, Ravensburg\, Baden-Württemberg\, 88214\, Germany
CATEGORIES:Hard Techno,Schranz
ATTACH;FMTTYPE=image/png:https://clubdouala.de/wp-content/uploads/2026/03/76311140-7102-4A30-8D53-1070EA8304CA.png
END:VEVENT
BEGIN:VEVENT
DTSTART;TZID=Europe/Berlin:20260425T220000
DTEND;TZID=Europe/Berlin:20260426T060000
DTSTAMP:20260420T031505
CREATED:20260327T210000Z
LAST-MODIFIED:20260326T102424Z
UID:1423-1777154400-1777183200@clubdouala.de
SUMMARY:MONKEYCIRCUS w/ KIM SWIM + BLOOM:CAST Showcase
DESCRIPTION:Am 25.04. kommt KIM SWIM! \nDie in Berlin lebende DJ und Produzentin KIM SWIM begeistert mit einem energiegeladenen\, genreübergreifenden Sound zwischen House\, Trance und Techno und gilt als eine der spannendsten neuen Stimmen der europäischen Clubszene. \nSupport gibt’s von der BLOOM:CAST Bande aus Köln und natürlich von MONKEYCIRCUS. \nLINE UP:  \nKIM SWIM\, PUEBLO GELB\, GLANZ\, MAURO\, ELYANTE\, ROSILICIOUS\, JAKOMO\, GINGIN\, CAPELLO\, JEORA \nTickets gibt’s hier: MONKEYCIRCUS w/ KIM SWIM
URL:https://clubdouala.de/programm/2026/04/monkeycircus-w-kim-swim-bloomcast-showcase/
LOCATION:Club Douala\, Schubertstraße 2\, Ravensburg\, Baden-Württemberg\, 88214\, Germany
CATEGORIES:Techno,Trance
ATTACH;FMTTYPE=image/jpeg:https://clubdouala.de/wp-content/uploads/2026/03/1x1-scaled.jpg
END:VEVENT
BEGIN:VEVENT
DTSTART;TZID=Europe/Berlin:20260430T220000
DTEND;TZID=Europe/Berlin:20260501T060000
DTSTAMP:20260420T031505
CREATED:20260401T200000Z
LAST-MODIFIED:20260406T213308Z
UID:1666-1777586400-1777615200@clubdouala.de
SUMMARY:TANZ IN DEN MAI – OPEN AIR & 4 CLUBS – 1 Ticket
DESCRIPTION:🌅 Ravensburg Tanzt in den Mai 🌅\nAm 30.04. wird Ravensburg zur Spielwiese für eine Nacht voller Musik\, Energie und Eskalation.Zwischen Open Air Sunset (19–22 Uhr) und 4 Clubs (22–06 Uhr) entsteht ein Erlebnis\, das du so hier noch nicht gesehen hast. 🔥 \nEin Ticket – alle Floors – eine Nacht. \n\n🔊 Line Up\nJOWI · KARLA BLUM · L.ZWOO.B.I. · TUBE & BERGER \n🌇 SUNSET OPEN AIR SPECIAL:MAUSIO \n\nLOCAL HEROES\n\n\n🌍 4 Clubs – 1 Ticket\n📍 DOUALA · KANTINE · MOTKE · FRIEDAS \nVon House & Disco bis Hardtechno & Psytrance– jede Location hat ihren eigenen Vibe– du entscheidest\, wo die Nacht dich hinträgt \n⚠️ Alle Areas haben begrenzte Kapazitäten \n\n🪐 DOUALA – 3 Floors\nIm Douala erwartet dich die dunklere\, treibendere Seite der Nacht: \n1 · UFO Rave ExtasyHard\, schnell\, kompromisslos – Rave-Eskalation bis in den Morgen \n2 · Trippin Out feat. NyxTripsHypnotisch\, verspielt\, psychedelisch – lose yourself \n3 · Groovy DystopiaDruckvoller Groove zwischen Techno & Bounce \n\n🎟️ Tickets\nDie erste Phase läuft bereits –Early Tickets sind limitiert – Preis steigt mit nächster Phase. \n👉 Sichere dir jetzt deinen Platz für eine der größten Nächte des Jahres. \n\n🔞 Zutritt\n🪪 Douala Only: 16+ Partyzettel (kein Zugang andere Clubs) \nEinlass für alle Areas & Clubs 18+ Jahre
URL:https://clubdouala.de/programm/2026/04/tanz-in-den-mai-open-air-4-clubs-1-ticket/
LOCATION:Club Douala\, Schubertstraße 2\, Ravensburg\, Baden-Württemberg\, 88214\, Germany
CATEGORIES:Hard Techno,House,Psy-Trance,Tech-House,Techno,Trance
ATTACH;FMTTYPE=image/png:https://clubdouala.de/wp-content/uploads/2026/04/FACEBOOK_Banner_Douala_001.png
END:VEVENT
BEGIN:VEVENT
DTSTART;TZID=Europe/Berlin:20260501T220000
DTEND;TZID=Europe/Berlin:20260502T060000
DTSTAMP:20260420T031505
CREATED:20260402T200000Z
LAST-MODIFIED:20260408T160324Z
UID:1668-1777672800-1777701600@clubdouala.de
SUMMARY:Munez & Friends
DESCRIPTION:MUNÉZ AND FRIENDS – Elektronische Nacht im Douala Ravensburg \n  \nMunéz und sein Line‑Up laden zu einer kraftvollen Nacht voller Hard Techno\, Techno und Schranz ins Douala in Ravensburg ein. Mit treibenden Bässen und packenden Sets sorgt das Programm für eine energiegeladene Clubatmosphäre\, die von lokalen und überregionalen Acts getragen wird. \n  \nErlebt MUNÉZ\, Charly\, Lone\, Techlinger\, Anova\, Just No\, Oswald\, Lucasso\, Shelux\, Cry4Me und Rokx live bei einer Veranstaltung\, die das Douala zum Beben bringt. Ob hart\, dunkel oder melodisch treibend\, hier kommen Fans elektronischer Musik voll auf ihre Kosten. \n  \nKommt pünktlich vorbei und taucht ein in eine lange Nacht mit dichten Beats und mitreißender Stimmung\, die noch lange nachklingen wird. \n  \nSicher dir dein Ticket
URL:https://clubdouala.de/programm/2026/05/munez-friends/
LOCATION:Club Douala\, Schubertstraße 2\, Ravensburg\, Baden-Württemberg\, 88214\, Germany
CATEGORIES:Hard Techno,Industrial,Peak Time Acid,Peak Time Techno,Schranz,Tech-House,Techno
ATTACH;FMTTYPE=image/jpeg:https://clubdouala.de/wp-content/uploads/2026/04/Techno-Rave-Douala-Beitrag-Insta-0105.jpg
END:VEVENT
BEGIN:VEVENT
DTSTART;TZID=Europe/Berlin:20260502T220000
DTEND;TZID=Europe/Berlin:20260503T060000
DTSTAMP:20260420T031505
CREATED:20260403T200000Z
LAST-MODIFIED:20260411T095905Z
UID:1645-1777759200-1777788000@clubdouala.de
SUMMARY:Gitterwerk pres Enfan
DESCRIPTION:Full B2B Support on 2 Floors ! \nwe Are really hyped to present the one & only ENFAN!
URL:https://clubdouala.de/programm/2026/05/gitterwerk-pres-enfan/
LOCATION:Club Douala\, Schubertstraße 2\, Ravensburg\, Baden-Württemberg\, 88214\, Germany
CATEGORIES:Hard Bounce,Hard Techno,Hardstyle,Industrial,Psy-Techno
ATTACH;FMTTYPE=image/jpeg:https://clubdouala.de/wp-content/uploads/2026/04/IMG_3671.jpeg
END:VEVENT
BEGIN:VEVENT
DTSTART;TZID=Europe/Berlin:20260507T170000
DTEND;TZID=Europe/Berlin:20260508T000000
DTSTAMP:20260420T031505
CREATED:20260408T150000Z
LAST-MODIFIED:20260303T104502Z
UID:1730-1778173200-1778198400@clubdouala.de
SUMMARY:Soundsynthesis
DESCRIPTION:Hey! Wir sind Sound Synthesis Community 🎛️\nEin Zusammenschluss von DJs\, Produzentinnen und Veranstalterinnen mit einem gemeinsamen Ziel – die lokale Szene zu stärken\, zu verbinden und gemeinsam weiterzuentwickeln. \nJeden Donnerstag treffen wir uns\, um Musik zu spielen\, zu produzieren\, Erfahrungen auszutauschen\, neue Leute kennenzulernen und einfach eine gute Zeit mit Freunden zu haben. \nUnsere Mission ist es\, lokale Artists zu unterstützen und jungen Talenten eine Bühne zu geben\, auf der sie gesehen und gehört werden. \nWir glauben\, dass Live-Sets die Zukunft der elektronischen Szene sind – deshalb zeigen wir unseren Mitgliedern\, wie man diesen Weg geht\, veranstalten Workshops\, Sessions und Kooperationen mit unseren Partnern. \nSound Synthesis ist ein Ort\, an dem du einfach du selbst sein kannst – wo Ideen zu Tracks werden und Kontakte zu echten Projekten wachsen. \n🎶 Eintritt? Deine Wertschätzung.\nKomm vorbei\, wenn du den Teil von etwas Echtem sein willst.
URL:https://clubdouala.de/programm/2026/05/soundsynthesis-18/
LOCATION:Club Douala\, Schubertstraße 2\, Ravensburg\, Baden-Württemberg\, 88214\, Germany
ATTACH;FMTTYPE=image/jpeg:https://clubdouala.de/wp-content/uploads/2025/10/soundsynthesis-platzhalter.jpeg
END:VEVENT
BEGIN:VEVENT
DTSTART;TZID=Europe/Berlin:20260508T220000
DTEND;TZID=Europe/Berlin:20260509T060000
DTSTAMP:20260420T031505
CREATED:20260409T200000Z
LAST-MODIFIED:20260404T031951Z
UID:1215-1778277600-1778306400@clubdouala.de
SUMMARY:Benefiz für die Culturegroove Generations Stage der Street Parade
DESCRIPTION:Hey ihr Lieben. \nLetztes Jahr haben wir von ETN eines der wundervollen Projekte der Street Parade besucht\, die Culturegroove Generations Stage.\nDie Organisatorin der Stage hat da mit ihrem Team nicht nur eine Psytrance-Stage aufgebaut\, sondern etwas einzigartiges\, ja ein kleines Psytrance Wunderland auf dem weltweit größten Techno Event erschaffen\, das jeder einmal gesehen haben sollte!😉\nDas Projekt wird mit Spenden finanziert und darum wollen wir von ETN die Generations Stage mit einem Event in unserem geliebten Club Douala Ravensburg supporten!\nZum einen um euch das Projekt vorzustellen zu können und um die Stage auch finanziell beim wachsen zu unterstützen!\nAbgesehen von den Betriebskosten (Club Miete) für die Party\, werden die gesamten Einnahmen der Party\, Culturegroove für ihr Projekt Generations Stage gespendet!\nIch möchte mich an dieser Stelle auch noch einmal mal ganz herzlich bei allen Artist’s bedanken\, die das Projekt mit unterstützen! \nLine Up:  \nMainfloor: \nEffim\n(TesseracTstudio / Alpaka Muzik)🇨🇭 \nAngie Taylor\n(Alpaka Muzik\, Panicroom\, Hardthouse)🇩🇪 \nRematic\n(Sun Empire Recordings\, \nMaya Shakti Records) 🇨🇭 \nFeinmechanik\n(TesseracTstudio) 🇨🇭 \nFrequenzkobold & Rematic\n(Friendship at first sight B2B)🥳 \nSecond-Floor: \nFrequenzkobold\n(EvoluTioN\, Schepperfrequenz\, Douala Resident)🇩🇪 \nPanda & Bär\n(Sonic Ritual\, One Love Festival)🇨🇭 \nAshrA\n(Ovnimoon Records)🇩🇪🇨🇭 \nMantis \n(BMSS Records)🇨🇭 \nDeko by: \nEvoluTioNic 🇩🇪 \,Ravecat 🇨🇭 \nBodypainting by: Bruno Dubickas 🇩🇪 \nOnly Abendkasse!😉
URL:https://clubdouala.de/programm/2026/05/benefiz-fuer-die-culturegroove-generations-stage-der-street-parade/
LOCATION:Club Douala\, Schubertstraße 2\, Ravensburg\, Baden-Württemberg\, 88214\, Germany
CATEGORIES:Psy-Techno,Psy-Trance,Techno
ATTACH;FMTTYPE=image/jpeg:https://clubdouala.de/wp-content/uploads/2026/04/Street-Parade-Flyer-May-2026-v2-Event-Banner-scaled.jpg
END:VEVENT
BEGIN:VEVENT
DTSTART;TZID=Europe/Berlin:20260509T220000
DTEND;TZID=Europe/Berlin:20260510T060000
DTSTAMP:20260420T031505
CREATED:20260410T200000Z
LAST-MODIFIED:20260407T113136Z
UID:983-1778364000-1778392800@clubdouala.de
SUMMARY:Mandora pres. ZEUZ
DESCRIPTION:MANDORA pres. ZEUZ \n  \n════ MAINFLOOR ═════\nZEUZ\nKRAVALE\nRIXXZ\nTHEREISNOTOMORROW \n  \n════ SECONDFLOOR ═════\nWEGBIER & ZAPFSÄULE\nB BABOO\nEXPLICIT \n  \nDatum: 09.05.2026\nZeit: 22:00 Uhr – 06:00 Uhr\nOrt: Douala\, Ravensburg
URL:https://clubdouala.de/programm/2026/05/mandora-pres-zeuz/
LOCATION:Club Douala\, Schubertstraße 2\, Ravensburg\, Baden-Württemberg\, 88214\, Germany
CATEGORIES:Hard Techno,Techno,Trance
ATTACH;FMTTYPE=image/png:https://clubdouala.de/wp-content/uploads/2026/04/Zeuz_Douala_16x9_Full.png
END:VEVENT
BEGIN:VEVENT
DTSTART;TZID=Europe/Berlin:20260513T220000
DTEND;TZID=Europe/Berlin:20260514T060000
DTSTAMP:20260420T031505
CREATED:20260414T200000Z
LAST-MODIFIED:20260407T094839Z
UID:1235-1778709600-1778738400@clubdouala.de
SUMMARY:ALL OF US GET KINKY! "THE SHOW MUST GO ON" AT CLUB DOUALA RAVENSBURG
DESCRIPTION:⏥⏥⏥ ALL OF US GET KINKY! „THE SHOW MUST GO ON“ AT CLUB DOUALA RAVENSBURG AM 13.05.2026 (VORFEIERTAG) ❤️‍🔥⛓️✨ \nUnsere Plattform im oberschwäbischen Ravensburg\, die gute elektronische Musik mit internationalen DJs der Szene\, Freiheit und Erotik verbindet und mittlerweile als gut etabliertes Kinky-Techno-Rave herangewachsen ist. Hier treffen neue Gesichter auf erfahrene Stammgäste – ein bunter Mix\, der garantiert für maximalen Spaß sorgt! ❤️‍🔥😇 \nUnsere Location ist der Club Douala in Ravensburg\, ein Urgestein das bereits seit mehr als 40 Jahren die Türen für alle möglichen Individuen offen hält – ein Ort\, an dem wir uns mit mehreren erfolgreichen Events in der Vergangenheit fest etablieren konnten. 🤝✨ \nLasst uns gemeinsam tanzen\, entdecken und eine offene Community aufbauen\, die feiert\, was sie liebt. Wir freuen uns riesig auf euch! ❤️ \nWas könnt Ihr an diesem Abend erwarten? \n⏥ Sexy treibenden Techno und nice Line Up\n⏥ Some sexxxy shows\n⏥ Some goodies and specials\n⏥ No Photos\n⏥ Top Awareness Team\n⏥ Fetish Fashion Store by Ulrika&Klaus\n⏥ 18+\n⏥ Dresscode! (siehe in unseren „8 Regeln“) \n⏥⏥⏥ LINE UP\nCOMING SOON \n⏥ Unser Tipp: Früh kommen\, spät gehen! Es wird eine Abendkasse geben. \n⏥⏥⏥ 7 REGELN \n1. NO PHOTO/VIDEO POLICY IM GANZEN GEBÄUDE UND AUSSENBEREICH! \n2. IM CLUB GILT STRIKTES HANDY VERBOT! IM AUSSENBEREICH DÜRFT IHR SELBSTVERSTANDLICH ZUR KOMMUNIKATION EUER GERAT NUTZEN. \n3. KEIN UNGEFRAGTES ANFASSEN. KONSENS! \n4. NUR EIN JA IST WIRKLICH EIN JA! \n5. „ALL HUMANS ARE WELCOME“ – JEDOCH BEVORZUGEN WIR AN DIESEM ABEND NUR EINEN DRESSCODE DER DEM MOTTO EXTREM NAHE KOMMT! KEINE STRASSENKLAMOTTEN (JOGGINGSHOSE\, HOODIE ETC. WER SICH UNSICHER IST\, KANN GERNE IM VORHINEIN DAS RAW AWARENESS TEAM ODER DAS TEAM VON ALL OF US AGENCY ANFRAGEN OB DAS OUTFIT PASST. \n6. GEGENSEITIGER RESPEKT IST VORRAUSSETZUNG! \n7. DEM AWARENESS-\, SECURITY- UND ALL OF US AGENCY TEAM IST FOLGE ZU LEISTEN!
URL:https://clubdouala.de/programm/2026/05/all-of-us-get-kinky-the-show-must-go-on-at-club-douala-ravensburg/
LOCATION:Club Douala\, Schubertstraße 2\, Ravensburg\, Baden-Württemberg\, 88214\, Germany
CATEGORIES:Bounce,Indie Dance,Melodic Techno,Peak Time Techno,Tech-House,Techno
ATTACH;FMTTYPE=image/jpeg:https://clubdouala.de/wp-content/uploads/2026/04/IMG_6306.jpeg
END:VEVENT
BEGIN:VEVENT
DTSTART;TZID=Europe/Berlin:20260514T170000
DTEND;TZID=Europe/Berlin:20260515T000000
DTSTAMP:20260420T031505
CREATED:20260415T150000Z
LAST-MODIFIED:20260303T104311Z
UID:1728-1778778000-1778803200@clubdouala.de
SUMMARY:Soundsynthesis
DESCRIPTION:Hey! Wir sind Sound Synthesis Community 🎛️\nEin Zusammenschluss von DJs\, Produzentinnen und Veranstalterinnen mit einem gemeinsamen Ziel – die lokale Szene zu stärken\, zu verbinden und gemeinsam weiterzuentwickeln. \nJeden Donnerstag treffen wir uns\, um Musik zu spielen\, zu produzieren\, Erfahrungen auszutauschen\, neue Leute kennenzulernen und einfach eine gute Zeit mit Freunden zu haben. \nUnsere Mission ist es\, lokale Artists zu unterstützen und jungen Talenten eine Bühne zu geben\, auf der sie gesehen und gehört werden. \nWir glauben\, dass Live-Sets die Zukunft der elektronischen Szene sind – deshalb zeigen wir unseren Mitgliedern\, wie man diesen Weg geht\, veranstalten Workshops\, Sessions und Kooperationen mit unseren Partnern. \nSound Synthesis ist ein Ort\, an dem du einfach du selbst sein kannst – wo Ideen zu Tracks werden und Kontakte zu echten Projekten wachsen. \n🎶 Eintritt? Deine Wertschätzung.\nKomm vorbei\, wenn du den Teil von etwas Echtem sein willst.
URL:https://clubdouala.de/programm/2026/05/soundsynthesis-17/
LOCATION:Club Douala\, Schubertstraße 2\, Ravensburg\, Baden-Württemberg\, 88214\, Germany
ATTACH;FMTTYPE=image/jpeg:https://clubdouala.de/wp-content/uploads/2025/10/soundsynthesis-platzhalter.jpeg
END:VEVENT
BEGIN:VEVENT
DTSTART;TZID=Europe/Berlin:20260515T220000
DTEND;TZID=Europe/Berlin:20260516T060000
DTSTAMP:20260420T031505
CREATED:20260416T200000Z
LAST-MODIFIED:20260417T095249Z
UID:1245-1778882400-1778911200@clubdouala.de
SUMMARY:lichterRausch. präsentiert Butschi b2b DJ Sonnenbrand(3h set)
DESCRIPTION:lichterRausch. präsentiert Butschi b2b DJ Sonnenbrand \nAm 15. Mai 2026 öffnet der Club Douala in Ravensburg die Türen für ein besonderes Techno & Trance Event in Ravensburg: lichterRausch. bringt Butschi b2b DJ Sonnenbrand für ein gemeinsames 3-Stunden-Set auf den Mainfloor – und wir freuen uns riesig darauf. \nWer die beiden kennt\, weiß\, was das bedeutet: kein schnelles Set zum Aufwärmen\, sondern eine echte Reise. Drei Stunden\, zwei DJs\, ein Sound. \nSupport auf dem Mainfloor kommt vom Kollektiv Stadtgeflüster – mit Amari Tayo\, KI/RA und SKAT stehen drei Acts auf dem Programm\, die den Abend genau richtig eröffnen und wieder beenden. \nAuf dem Secondfloor übernimmt Kollektiv Cribbeln aus Köln das Zepter. Der:Frau\, Ralf Gram\, Svennii\, Sula und Tom Tonic bespielen den zweiten Floor durch die ganze Nacht – wer zwischendurch Luft braucht oder einfach mal reinschnuppern will\, ist dort genau richtig. \nlichterRausch. ist kein gewöhnlicher Clubabend. Wir setzen bewusst auf warme Lichttechnik\, auf Atmosphäre statt Spektakel – und auf ein Publikum\, dem die Musik wirklich etwas bedeutet. Kein Raum für Sexismus\, Hass oder Diskriminierung. Dafür jede Menge Raum für gute Nächte. \nUnd weil eine gute Nacht auch etwas hinterlassen kann: 1€ pro Ticket geht an den Tierschutzverein Furry Luck Association. Klein\, aber herzlich. \nEinlass ab 21 Jahren. Los geht’s um 22 Uhr\, Ende gegen 6 Uhr morgens. Tickets gibt es im Vorverkauf auf tickets.lichterrausch.de oder an der Abendkasse. \n  \nButschi b2b DJ Sonnenbrand\n••• 3h set ••• \n☀️ einlass 21+\n☀️ kein raum für sexismus\, hass und diskriminierung jeglicher art\n☀️ es gilt die ganze nacht: no shirt\, no service\n☀️ no photo’s on the dancefloor\n☀️ special lichttechnik auf beiden floors \nmainfloor support durch @stadtgefluester.wgt\n☀️ Amari Tayo @amari.tayo_ofc\n☀️ KI/RA @ki.ra_ofc\n☀️ SKAT @skat.music \nsecondfloor hosted by @kollektiv.cribbeln aus köln\n☀️ Der:Frau\n☀️ Ralf Gram\n☀️ Svennii\n☀️ Sula\n☀️ Tom Tonic \n1€ pro ticket geht an den tierschutzverein @furry_luck_association – lasst gern viel liebe da ♡ \nwir freuen uns auf eine nacht voller energie\, bass und licht mit euch ☀️
URL:https://clubdouala.de/programm/2026/05/techno-trance-event-ravensburg-lichterrausch-butschi-dj-sonnenbrand/
LOCATION:Club Douala\, Schubertstraße 2\, Ravensburg\, Baden-Württemberg\, 88214\, Germany
CATEGORIES:Techno,Trance
ATTACH;FMTTYPE=image/jpeg:https://clubdouala.de/wp-content/uploads/2026/04/lichterrausch-insta-post-headliner-final-scaled.jpg
END:VEVENT
BEGIN:VEVENT
DTSTART;TZID=Europe/Berlin:20260516T220000
DTEND;TZID=Europe/Berlin:20260517T060000
DTSTAMP:20260420T031505
CREATED:20260417T200000Z
LAST-MODIFIED:20260416T134910Z
UID:1425-1778968800-1778997600@clubdouala.de
SUMMARY:MONKEYCIRCUS & Friends
DESCRIPTION:Ein letzter affiger Rave vor der Sommerpause. \nMehr Infos bald!
URL:https://clubdouala.de/programm/2026/05/monkeycircus-friends-2/
LOCATION:Club Douala\, Schubertstraße 2\, Ravensburg\, Baden-Württemberg\, 88214\, Germany
CATEGORIES:Techno,Trance
ATTACH;FMTTYPE=image/jpeg:https://clubdouala.de/wp-content/uploads/2026/04/Banner-vorlaeufig.jpg
END:VEVENT
END:VCALENDAR